BEGIN:VCALENDAR
VERSION:2.0
PRODID:-//Tea Tavern - ECPv6.15.20//NONSGML v1.0//EN
CALSCALE:GREGORIAN
METHOD:PUBLISH
X-WR-CALNAME:Tea Tavern
X-ORIGINAL-URL:https://wordpress.tea-tavern.com
X-WR-CALDESC:Events for Tea Tavern
REFRESH-INTERVAL;VALUE=DURATION:PT1H
X-Robots-Tag:noindex
X-PUBLISHED-TTL:PT1H
BEGIN:VTIMEZONE
TZID:America/Phoenix
BEGIN:STANDARD
TZOFFSETFROM:-0700
TZOFFSETTO:-0700
TZNAME:MST
DTSTART:20250101T000000
END:STANDARD
END:VTIMEZONE
BEGIN:VEVENT
DTSTART;TZID=America/Phoenix:20260916T120000
DTEND;TZID=America/Phoenix:20260916T150000
DTSTAMP:20260421T184713
CREATED:20260412T185217Z
LAST-MODIFIED:20260421T080103Z
UID:5184-1789560000-1789570800@wordpress.tea-tavern.com
SUMMARY:Gongfu Tea Tasting at HeatSync Labs
DESCRIPTION:Take a tea break from your hardware\, software or maker work with the Traveling Tea Tavern! Gather round and learn the art of Gongfu tea.
URL:https://wordpress.tea-tavern.com/event/gongfu-tea-tasting-at-heatsync-labs-81/
LOCATION:HeatSync Labs\, 108 West Main Street\, Mesa\, AZ\, 85201\, United States
CATEGORIES:Tea Tavern Events
ATTACH;FMTTYPE=image/jpeg:https://wordpress.tea-tavern.com/wp-content/uploads/2026/02/cfeb64bee65143c318a0605b9d7c11de.jpg
END:VEVENT
BEGIN:VEVENT
DTSTART;TZID=America/Phoenix:20260916T180000
DTEND;TZID=America/Phoenix:20260916T213000
DTSTAMP:20260421T184713
CREATED:20260412T185217Z
LAST-MODIFIED:20260421T080103Z
UID:5185-1789581600-1789594200@wordpress.tea-tavern.com
SUMMARY:Gongfu Tea Tasting at HeatSync Labs
DESCRIPTION:Take a tea break from your hardware\, software or maker work with the Traveling Tea Tavern! Gather round and learn the art of Gongfu tea.
URL:https://wordpress.tea-tavern.com/event/gongfu-tea-tasting-at-heatsync-labs-82/
LOCATION:HeatSync Labs\, 108 West Main Street\, Mesa\, AZ\, 85201\, United States
CATEGORIES:Tea Tavern Events
ATTACH;FMTTYPE=image/jpeg:https://wordpress.tea-tavern.com/wp-content/uploads/2026/02/cfeb64bee65143c318a0605b9d7c11de.jpg
END:VEVENT
BEGIN:VEVENT
DTSTART;TZID=America/Phoenix:20260923T120000
DTEND;TZID=America/Phoenix:20260923T150000
DTSTAMP:20260421T184713
CREATED:20260412T185217Z
LAST-MODIFIED:20260421T080103Z
UID:5186-1790164800-1790175600@wordpress.tea-tavern.com
SUMMARY:Gongfu Tea Tasting at HeatSync Labs
DESCRIPTION:Take a tea break from your hardware\, software or maker work with the Traveling Tea Tavern! Gather round and learn the art of Gongfu tea.
URL:https://wordpress.tea-tavern.com/event/gongfu-tea-tasting-at-heatsync-labs-83/
LOCATION:HeatSync Labs\, 108 West Main Street\, Mesa\, AZ\, 85201\, United States
CATEGORIES:Tea Tavern Events
ATTACH;FMTTYPE=image/jpeg:https://wordpress.tea-tavern.com/wp-content/uploads/2026/02/cfeb64bee65143c318a0605b9d7c11de.jpg
END:VEVENT
BEGIN:VEVENT
DTSTART;TZID=America/Phoenix:20260923T180000
DTEND;TZID=America/Phoenix:20260923T213000
DTSTAMP:20260421T184713
CREATED:20260412T185217Z
LAST-MODIFIED:20260421T080104Z
UID:5187-1790186400-1790199000@wordpress.tea-tavern.com
SUMMARY:Gongfu Tea Tasting at HeatSync Labs
DESCRIPTION:Take a tea break from your hardware\, software or maker work with the Traveling Tea Tavern! Gather round and learn the art of Gongfu tea.
URL:https://wordpress.tea-tavern.com/event/gongfu-tea-tasting-at-heatsync-labs-84/
LOCATION:HeatSync Labs\, 108 West Main Street\, Mesa\, AZ\, 85201\, United States
CATEGORIES:Tea Tavern Events
ATTACH;FMTTYPE=image/jpeg:https://wordpress.tea-tavern.com/wp-content/uploads/2026/02/cfeb64bee65143c318a0605b9d7c11de.jpg
END:VEVENT
BEGIN:VEVENT
DTSTART;TZID=America/Phoenix:20260930T180000
DTEND;TZID=America/Phoenix:20260930T213000
DTSTAMP:20260421T184713
CREATED:20260412T185218Z
LAST-MODIFIED:20260421T080104Z
UID:5189-1790791200-1790803800@wordpress.tea-tavern.com
SUMMARY:Gongfu Tea Tasting at HeatSync Labs
DESCRIPTION:Take a tea break from your hardware\, software or maker work with the Traveling Tea Tavern! Gather round and learn the art of Gongfu tea.
URL:https://wordpress.tea-tavern.com/event/gongfu-tea-tasting-at-heatsync-labs-86/
LOCATION:HeatSync Labs\, 108 West Main Street\, Mesa\, AZ\, 85201\, United States
CATEGORIES:Tea Tavern Events
ATTACH;FMTTYPE=image/jpeg:https://wordpress.tea-tavern.com/wp-content/uploads/2026/02/cfeb64bee65143c318a0605b9d7c11de.jpg
END:VEVENT
BEGIN:VEVENT
DTSTART;TZID=America/Phoenix:20261007T120000
DTEND;TZID=America/Phoenix:20261007T150000
DTSTAMP:20260421T184713
CREATED:20260416T023102Z
LAST-MODIFIED:20260421T080104Z
UID:5244-1791374400-1791385200@wordpress.tea-tavern.com
SUMMARY:Gongfu Tea Tasting at HeatSync Labs
DESCRIPTION:Take a tea break from your hardware\, software or maker work with the Traveling Tea Tavern! Gather round and learn the art of Gongfu tea.
URL:https://wordpress.tea-tavern.com/event/gongfu-tea-tasting-at-heatsync-labs-87/
LOCATION:HeatSync Labs\, 108 West Main Street\, Mesa\, AZ\, 85201\, United States
CATEGORIES:Tea Tavern Events
ATTACH;FMTTYPE=image/jpeg:https://wordpress.tea-tavern.com/wp-content/uploads/2026/02/cfeb64bee65143c318a0605b9d7c11de.jpg
END:VEVENT
BEGIN:VEVENT
DTSTART;TZID=America/Phoenix:20261007T180000
DTEND;TZID=America/Phoenix:20261007T213000
DTSTAMP:20260421T184713
CREATED:20260416T023102Z
LAST-MODIFIED:20260421T080104Z
UID:5245-1791396000-1791408600@wordpress.tea-tavern.com
SUMMARY:Gongfu Tea Tasting at HeatSync Labs
DESCRIPTION:Take a tea break from your hardware\, software or maker work with the Traveling Tea Tavern! Gather round and learn the art of Gongfu tea.
URL:https://wordpress.tea-tavern.com/event/gongfu-tea-tasting-at-heatsync-labs-88/
LOCATION:HeatSync Labs\, 108 West Main Street\, Mesa\, AZ\, 85201\, United States
CATEGORIES:Tea Tavern Events
ATTACH;FMTTYPE=image/jpeg:https://wordpress.tea-tavern.com/wp-content/uploads/2026/02/cfeb64bee65143c318a0605b9d7c11de.jpg
END:VEVENT
BEGIN:VEVENT
DTSTART;TZID=America/Phoenix:20261014T120000
DTEND;TZID=America/Phoenix:20261014T150000
DTSTAMP:20260421T184713
CREATED:20260417T074556Z
LAST-MODIFIED:20260421T080104Z
UID:5249-1791979200-1791990000@wordpress.tea-tavern.com
SUMMARY:Gongfu Tea Tasting at HeatSync Labs
DESCRIPTION:Take a tea break from your hardware\, software or maker work with the Traveling Tea Tavern! Gather round and learn the art of Gongfu tea.
URL:https://wordpress.tea-tavern.com/event/gongfu-tea-tasting-at-heatsync-labs-89/
LOCATION:HeatSync Labs\, 108 West Main Street\, Mesa\, AZ\, 85201\, United States
CATEGORIES:Tea Tavern Events
ATTACH;FMTTYPE=image/jpeg:https://wordpress.tea-tavern.com/wp-content/uploads/2026/02/cfeb64bee65143c318a0605b9d7c11de.jpg
END:VEVENT
END:VCALENDAR